BEGIN:VCALENDAR
PRODID:Nexudus
VERSION:2.0
BEGIN:VTIMEZONE
TZID:Asia/Singapore
X-LIC-LOCATION:Asia/Singapore
BEGIN:STANDARD
DTSTART:19820101T010000
RRULE:FREQ=YEARLY;BYDAY=1FR;BYMONTH=1
TZNAME:+08
TZOFFSETFROM:+0900
TZOFFSETTO:+0800
END:STANDARD
END:VTIMEZONE
BEGIN:VEVENT
DESCRIPTION:\nEvent link: https://Hubud.spaces.nexudus.com/en/events/view/6
 27844226/hubud-members-lunch\n
DTEND;TZID=Asia/Singapore:20180615T133000
DTSTAMP:20260425T212256Z
DTSTART;TZID=Asia/Singapore:20180615T123000
LOCATION:Hubud
SEQUENCE:0
SUMMARY:Hubud Members Lunch
UID:49d488c6-ef22-4762-a887-f60d3d30b09d
END:VEVENT
END:VCALENDAR
