BEGIN:VCALENDAR
PRODID:Nexudus
VERSION:2.0
BEGIN:VTIMEZONE
TZID:Asia/Singapore
X-LIC-LOCATION:Asia/Singapore
BEGIN:STANDARD
DTSTART:19820101T010000
RRULE:FREQ=YEARLY;BYDAY=1FR;BYMONTH=1
TZNAME:+08
TZOFFSETFROM:+0900
TZOFFSETTO:+0800
END:STANDARD
END:VTIMEZONE
BEGIN:VEVENT
DESCRIPTION:This event is for members only. Find out more about membership 
 (including Events Only membership) at https://www.hubud.org/join/\n\nMavis
  was created by Mikael and it is a robot for automatic vegetable gardening
 . Many of its parts are 3D printed\, while other parts are things that exi
 sts all around us in abundance\, such as PVC pipes or sticks of bamboo. \n
 Mavis is open source\, easy to understand\, and the idea behind it is that
  everybody can build it and own it together with other people. The core of
  the project itself is the belief in a future where we can rely on ourselv
 es\, rather than on big corporations\, to create the objects we need.\n\nM
 ikael main desired outcomes:\n- connect with people who find this idea fas
 cinating\n- connect with people who wants to be involved in the project\n-
  help with the project's organization and timeline\n- help in finding ways
  to test the project in real life\nEvent link: https://Hubud.spaces.nexudu
 s.com/en/events/view/627844694/entrepreneurial-think-thank--post-scarcity-
 robotics\n
DTEND;TZID=Asia/Singapore:20180620T133000
DTSTAMP:20260422T222105Z
DTSTART;TZID=Asia/Singapore:20180620T123000
LOCATION:Hubud
SEQUENCE:0
SUMMARY:Entrepreneurial Think Thank: Post Scarcity Robotics
UID:bcdf4e43-4f9a-4700-91e6-11174622239a
END:VEVENT
END:VCALENDAR
