BEGIN:VCALENDAR
PRODID:Nexudus
VERSION:2.0
BEGIN:VTIMEZONE
TZID:Asia/Singapore
X-LIC-LOCATION:Asia/Singapore
BEGIN:STANDARD
DTSTART:19820101T010000
RRULE:FREQ=YEARLY;BYDAY=1FR;BYMONTH=1
TZNAME:+08
TZOFFSETFROM:+0900
TZOFFSETTO:+0800
END:STANDARD
END:VTIMEZONE
BEGIN:VEVENT
DESCRIPTION:This event is for members only. Find out more about membership 
 (including Events Only membership) at https://www.hubud.org/join/\n\nTrans
 form your mind\, body and performance at work. Based on science. Proven by
  results.\n\nDuring this talk you will learn: \n- the science behind creat
 ing high performing habits\n- the number #1 mistake that most people make 
 trying to breakthrough to the next level\n- the 5 key habits you must deve
 lop to become a superstar in your field\n- how to generate sustainable ene
 rgy to increase your productivity\n\nAbout the speaker:\nWendi Blum is an 
 Author\, International Speaker\, Retreat Leader and Entrepreneur Consultan
 t.\nAfter two decades in a successful sales career in the pharmaceutical i
 ndustry\, Wendi left to launch her coaching and writing career. \nShe is t
 he author of 5 books – known for her focus on reinvention\, goal mastery
 \, and business savy – and she is known as “the queen of reinvention
 ”. Her titles include: “Your Life\, Your Destiny\, Uncover Yours\, Lif
 eShift” and “Goals Setting: Success Strategies for The New Economy”.
 \nBlum is known for her blend of spiritual flare with business savvy.\n\nW
 endi has also shared the stage with well known speakers including: Jack Ca
 nfield\, Chris Evert\, David Neagle\, Suzanne Evans\, Craig Duswalt. She i
 s passionate about inspiring millions of people to live their highest pote
 ntial.\nShe works with a variety of individuals and businesses – as a Co
 nsultant and Sales Strategist.\nEvent link: https://Hubud.spaces.nexudus.c
 om/en/events/view/627844749/bali-bungkus--positive-habits-for-entrepreneur
 ial-success\n
DTEND;TZID=Asia/Singapore:20180719T133000
DTSTAMP:20260423T082317Z
DTSTART;TZID=Asia/Singapore:20180719T123000
LOCATION:Hubud
SEQUENCE:0
SUMMARY:Bali Bungkus: Positive Habits For Entrepreneurial Success
UID:cb9f0470-5df6-40fd-acb8-a1b0852026a2
END:VEVENT
END:VCALENDAR
