BEGIN:VCALENDAR
PRODID:Nexudus
VERSION:2.0
BEGIN:VTIMEZONE
TZID:Asia/Singapore
X-LIC-LOCATION:Asia/Singapore
BEGIN:STANDARD
DTSTART:19820101T010000
RRULE:FREQ=YEARLY;BYDAY=1FR;BYMONTH=1
TZNAME:+08
TZOFFSETFROM:+0900
TZOFFSETTO:+0800
END:STANDARD
END:VTIMEZONE
BEGIN:VEVENT
DESCRIPTION:A fortnightly round table discussion exploring a different topi
 c related to Blockchain.\n\nPlease note: This meetup is by women\, for wom
 en only\n\nMeetup Topic: TBC\nEvent link: https://Hubud.spaces.nexudus.com
 /en/events/view/627844752/blockchain-babes--ubud-\n
DTEND;TZID=Asia/Singapore:20180625T190000
DTSTAMP:20260423T153534Z
DTSTART;TZID=Asia/Singapore:20180625T170000
LOCATION:Hubud
SEQUENCE:0
SUMMARY:Blockchain Babes (Ubud)
UID:ae18260c-7fc5-47d4-a8ee-129d51c80a39
END:VEVENT
END:VCALENDAR
