BEGIN:VCALENDAR
PRODID:Nexudus
VERSION:2.0
BEGIN:VTIMEZONE
TZID:Asia/Singapore
X-LIC-LOCATION:Asia/Singapore
BEGIN:STANDARD
DTSTART:19820101T010000
RRULE:FREQ=YEARLY;BYDAY=1FR;BYMONTH=1
TZNAME:+08
TZOFFSETFROM:+0900
TZOFFSETTO:+0800
END:STANDARD
END:VTIMEZONE
BEGIN:VEVENT
DESCRIPTION:\nEvent link: https://Hubud.spaces.nexudus.com/en/events/view/6
 44511870/skill-share--your-product-sucks--an-introduction-to-ux-design\n
DTEND;TZID=Asia/Singapore:20180705T133000
DTSTAMP:20260422T222109Z
DTSTART;TZID=Asia/Singapore:20180705T123000
LOCATION:Hubud
SEQUENCE:0
SUMMARY:Skill Share: Your Product Sucks. An Introduction to UX Design
UID:8ab59352-f149-4b79-b3d8-ac3afd3e47da
END:VEVENT
END:VCALENDAR
