BEGIN:VCALENDAR
PRODID:Nexudus
VERSION:2.0
BEGIN:VTIMEZONE
TZID:Asia/Singapore
X-LIC-LOCATION:Asia/Singapore
BEGIN:STANDARD
DTSTART:19820101T010000
RRULE:FREQ=YEARLY;BYDAY=1FR;BYMONTH=1
TZNAME:+08
TZOFFSETFROM:+0900
TZOFFSETTO:+0800
END:STANDARD
END:VTIMEZONE
BEGIN:VEVENT
DESCRIPTION:\nEvent link: https://Hubud.spaces.nexudus.com/en/events/view/6
 44511871/creative-meet-up-with-outsider\n
DTEND;TZID=Asia/Singapore:20180705T190000
DTSTAMP:20260422T221953Z
DTSTART;TZID=Asia/Singapore:20180705T170000
LOCATION:Hubud
SEQUENCE:0
SUMMARY:Creative Meet-Up With Outsider
UID:ff8c6417-5304-4ee9-bae6-071a549f1337
END:VEVENT
END:VCALENDAR
