BEGIN:VCALENDAR
PRODID:Nexudus
VERSION:2.0
BEGIN:VTIMEZONE
TZID:Asia/Singapore
X-LIC-LOCATION:Asia/Singapore
BEGIN:STANDARD
DTSTART:19820101T010000
RRULE:FREQ=YEARLY;BYDAY=1FR;BYMONTH=1
TZNAME:+08
TZOFFSETFROM:+0900
TZOFFSETTO:+0800
END:STANDARD
END:VTIMEZONE
BEGIN:VEVENT
DESCRIPTION:This event is for members only. Find out more about membership 
 (including Events Only membership) at https://www.hubud.org/join/\n\nNew m
 ember at Hubud?\n\nJoin us for brunch and get to know How-to-Hubud!\n\nFro
 m tracking your hours\, using our amazing media server\, and connecting wi
 th other co-working spaces we have reciprocal agreements with\, you will b
 e a full fledged Hubudian by the end of the session.\nEvent link: https://
 Hubud.spaces.nexudus.com/en/events/view/657931335/hubud-new-members-orient
 ation\n
DTEND;TZID=Asia/Singapore:20190716T113000
DTSTAMP:20260422T233718Z
DTSTART;TZID=Asia/Singapore:20190716T103000
LOCATION:Hubud
SEQUENCE:0
SUMMARY:Hubud New Members Orientation
UID:0ddca685-dd79-48b6-acfa-b03d27b1790a
END:VEVENT
END:VCALENDAR
