BEGIN:VCALENDAR
PRODID:Nexudus
VERSION:2.0
BEGIN:VTIMEZONE
TZID:Asia/Singapore
X-LIC-LOCATION:Asia/Singapore
BEGIN:STANDARD
DTSTART:19820101T010000
RRULE:FREQ=YEARLY;BYDAY=1FR;BYMONTH=1
TZNAME:+08
TZOFFSETFROM:+0900
TZOFFSETTO:+0800
END:STANDARD
END:VTIMEZONE
BEGIN:VEVENT
DESCRIPTION:\nEvent link: https://Hubud.spaces.nexudus.com/en/events/view/6
 58048410/skill-share--apply-feminine-principles-to-running-your-business-\
 n
DTEND;TZID=Asia/Singapore:20180724T133000
DTSTAMP:20260422T222059Z
DTSTART;TZID=Asia/Singapore:20180724T123000
LOCATION:Hubud
SEQUENCE:0
SUMMARY:Skill Share: Apply Feminine Principles to Running your Business!
UID:5b92f89e-3cf7-434f-8f33-5892db2caa00
END:VEVENT
END:VCALENDAR
