BEGIN:VCALENDAR
PRODID:Nexudus
VERSION:2.0
BEGIN:VTIMEZONE
TZID:Asia/Singapore
X-LIC-LOCATION:Asia/Singapore
BEGIN:STANDARD
DTSTART:19820101T010000
RRULE:FREQ=YEARLY;BYDAY=1FR;BYMONTH=1
TZNAME:+08
TZOFFSETFROM:+0900
TZOFFSETTO:+0800
END:STANDARD
END:VTIMEZONE
BEGIN:VEVENT
DESCRIPTION:This event is for members only. Find out more about membership 
 (including Events Only membership) at https://www.hubud.org/join/\n\nHave 
 you ever thought about throwing an event to help launch your business? Int
 roduce a new product? Or bring awareness to an important cause? During thi
 s Skill Share\, Natalie will provide insight and advice on how to successf
 ully plan\, produce\, and execute an event\, and how hosting events can he
 lp you grow on a personal level. She will share fundamental principles on 
 authentically growing your company through events and networking\, while s
 trengthening the connection with yourself.\n\nWhat you will learn:\n- the 
 power of hosting an event for your brand/company/non-profit\n- how to succ
 essfully promote your event and gain exposure\n- the steps to take to succ
 essfully implement and host an event\n- how mindful living ties into imple
 menting the perfect event\n- effective principles to help you grow persona
 lly and professionally\n\nAbout the speaker:\nOriginally from the US\, Nat
 alie moved to Bali from Santiago\, Chile where she was the Branding Direct
 or for a Start-Up company\, helping launch campaigns and produce events. W
 hile in Chile she also started teaching yoga/meditation. \nPrior\, Natalie
 ’s past experience includes working for 20th Century Fox making movie tr
 ailers\, Event Planning/Producing\, and working on movie sets. Natalie has
  thrown multiple charity events in both Atlanta and Los Angeles\, and hope
 s to implement a non-profit event here in Bali.\n\nCurrently\, Natalie is 
 teaching yoga and life coaching\, as well as growing her brand to include 
 Wellness Retreats. Aside from event planning\, Natalie’s side passions a
 re creating video content\, on-air hosting\, and playing darts.\nEvent lin
 k: https://Hubud.spaces.nexudus.com/en/events/view/665733379/skill-share--
 successful-event-planning-through-mindful-living\n
DTEND;TZID=Asia/Singapore:20180809T133000
DTSTAMP:20260422T222056Z
DTSTART;TZID=Asia/Singapore:20180809T123000
LOCATION:Hubud
SEQUENCE:0
SUMMARY:Skill Share: Successful Event Planning Through Mindful Living
UID:102cbea1-0c5c-4dce-8126-1fa66df1f30d
END:VEVENT
END:VCALENDAR
