BEGIN:VCALENDAR
PRODID:Nexudus
VERSION:2.0
BEGIN:VTIMEZONE
TZID:Asia/Singapore
X-LIC-LOCATION:Asia/Singapore
BEGIN:STANDARD
DTSTART:19820101T010000
RRULE:FREQ=YEARLY;BYDAY=1FR;BYMONTH=1
TZNAME:+08
TZOFFSETFROM:+0900
TZOFFSETTO:+0800
END:STANDARD
END:VTIMEZONE
BEGIN:VEVENT
DESCRIPTION:This event is for members only. Find out more about membership 
 (including Events Only membership) at https://www.hubud.org/join/\n\nPrope
 ller is a mobile app conceived by Stephen in Melbourne and is 8 months int
 o the design stage. It will assist small informal groups to establish mean
 ingful life goals and to support each other in attaining them. Specificall
 y\, Propeller is conceived to help 1 person invite up to 7 others in their
  network to establish meaningful life goals and work towards them on a mon
 th long journey\, whilst being supported by\, and supporting the group. Ea
 ch group member declares weekly time commitments via video message to the 
 group to be accountable to their goals. Propeller will help track the actu
 al time spent on each commitment\, as well as how focused they are in thei
 r task. At the end of each week the group will witness how each person is 
 progressing in their milestone completion and target objectives. Propeller
  isn’t a competition\, but it does make goal accountability achievable a
 nd fun!\n\nThe challenges:\nAfter feedback from 10 simulators in Australia
 \, Stephen has decided to modify the in-depth goal setting process that th
 e group was to complete in the first week of the game. He's looking to str
 eamline this goal setting exercise that will elicit some meaningful goals\
 , but isn’t too taxing or time consuming\, coming just after the group h
 as formed. Finding this balance is his main challenge here. He’s also lo
 oking to the best ways to declare these goals to the group.\n\nMain desire
 d outcomes:\nStephen is hoping to present the components of the original g
 oal process he had included\, and to eliminate non-essential aspects to st
 reamline the process. He’s also looking to have a brief brainstorm on th
 e most effective/fun ways to declare the newly set goals to everyone in th
 e group.\nEvent link: https://Hubud.spaces.nexudus.com/en/events/view/6799
 05267/think-thank--propeller--group-goal-setting-and-accountability\n
DTEND;TZID=Asia/Singapore:20180822T133000
DTSTAMP:20260423T080550Z
DTSTART;TZID=Asia/Singapore:20180822T123000
LOCATION:Hubud
SEQUENCE:0
SUMMARY:Think Thank: Propeller\, Group Goal Setting and Accountability
UID:bf4ea267-2747-4c5c-9e26-d853eba9cd02
END:VEVENT
END:VCALENDAR
