BEGIN:VCALENDAR
PRODID:Nexudus
VERSION:2.0
BEGIN:VTIMEZONE
TZID:Asia/Singapore
X-LIC-LOCATION:Asia/Singapore
BEGIN:STANDARD
DTSTART:19820101T010000
RRULE:FREQ=YEARLY;BYDAY=1FR;BYMONTH=1
TZNAME:+08
TZOFFSETFROM:+0900
TZOFFSETTO:+0800
END:STANDARD
END:VTIMEZONE
BEGIN:VEVENT
DESCRIPTION:\nEvent link: https://Hubud.spaces.nexudus.com/en/events/view/7
 09950255/building-successful-organizations-101\n
DTEND;TZID=Asia/Singapore:20180925T133000
DTSTAMP:20260422T221956Z
DTSTART;TZID=Asia/Singapore:20180925T123000
LOCATION:Hubud
SEQUENCE:0
SUMMARY:Building successful organizations 101
UID:c994ece3-39d5-457a-86d9-e5721f65db45
END:VEVENT
END:VCALENDAR
