BEGIN:VCALENDAR
PRODID:Nexudus
VERSION:2.0
BEGIN:VTIMEZONE
TZID:Asia/Singapore
X-LIC-LOCATION:Asia/Singapore
BEGIN:STANDARD
DTSTART:19820101T010000
RRULE:FREQ=YEARLY;BYDAY=1FR;BYMONTH=1
TZNAME:+08
TZOFFSETFROM:+0900
TZOFFSETTO:+0800
END:STANDARD
END:VTIMEZONE
BEGIN:VEVENT
DESCRIPTION:\nEvent link: https://Hubud.spaces.nexudus.com/en/events/view/7
 14421916/bali-bungkus--a-7-step-social-media-strategy-to-online-awesomene\
 n
DTEND;TZID=Asia/Singapore:20181002T133000
DTSTAMP:20260422T221953Z
DTSTART;TZID=Asia/Singapore:20181002T123000
LOCATION:Hubud
SEQUENCE:0
SUMMARY:Bali Bungkus: A 7-Step Social Media Strategy to Online Awesomene
UID:7d0b7040-9b81-42ed-a111-f2362dd38b3f
END:VEVENT
END:VCALENDAR
