BEGIN:VCALENDAR
PRODID:Nexudus
VERSION:2.0
BEGIN:VTIMEZONE
TZID:Asia/Singapore
X-LIC-LOCATION:Asia/Singapore
BEGIN:STANDARD
DTSTART:19820101T010000
RRULE:FREQ=YEARLY;BYDAY=1FR;BYMONTH=1
TZNAME:+08
TZOFFSETFROM:+0900
TZOFFSETTO:+0800
END:STANDARD
END:VTIMEZONE
BEGIN:VEVENT
DESCRIPTION:\nEvent link: https://Hubud.spaces.nexudus.com/en/events/view/7
 14558272/hubud-members-lunch\n
DTEND;TZID=Asia/Singapore:20181001T133000
DTSTAMP:20260425T102459Z
DTSTART;TZID=Asia/Singapore:20181005T123000
LOCATION:Hubud
SEQUENCE:0
SUMMARY:Hubud Members Lunch
UID:0453291f-7ffa-4fcb-8ddc-8b7be908c08c
END:VEVENT
END:VCALENDAR
