BEGIN:VCALENDAR
PRODID:Nexudus
VERSION:2.0
BEGIN:VTIMEZONE
TZID:Asia/Singapore
X-LIC-LOCATION:Asia/Singapore
BEGIN:STANDARD
DTSTART:19820101T010000
RRULE:FREQ=YEARLY;BYDAY=1FR;BYMONTH=1
TZNAME:+08
TZOFFSETFROM:+0900
TZOFFSETTO:+0800
END:STANDARD
END:VTIMEZONE
BEGIN:VEVENT
DESCRIPTION:\nEvent link: https://Hubud.spaces.nexudus.com/en/events/view/7
 36013282/entrepreneurial-think-thank--propaganda--bookshop\n
DTEND;TZID=Asia/Singapore:20181024T133000
DTSTAMP:20260423T055023Z
DTSTART;TZID=Asia/Singapore:20181024T123000
LOCATION:Hubud
SEQUENCE:0
SUMMARY:Entrepreneurial Think Thank: Propaganda\, Bookshop
UID:9595d01a-969b-41af-9615-98413813aa66
END:VEVENT
END:VCALENDAR
