BEGIN:VCALENDAR
PRODID:Nexudus
VERSION:2.0
BEGIN:VTIMEZONE
TZID:Asia/Singapore
X-LIC-LOCATION:Asia/Singapore
BEGIN:STANDARD
DTSTART:19820101T010000
RRULE:FREQ=YEARLY;BYDAY=1FR;BYMONTH=1
TZNAME:+08
TZOFFSETFROM:+0900
TZOFFSETTO:+0800
END:STANDARD
END:VTIMEZONE
BEGIN:VEVENT
DESCRIPTION:\nEvent link: https://Hubud.spaces.nexudus.com/en/events/view/7
 49538819/bali-bungkus--free-social-media-traffic\n
DTEND;TZID=Asia/Singapore:20181113T133000
DTSTAMP:20260422T221954Z
DTSTART;TZID=Asia/Singapore:20181113T123000
LOCATION:Hubud
SEQUENCE:0
SUMMARY:Bali Bungkus: Free Social Media Traffic
UID:91412eb9-a629-423c-a6b7-96623b40acc6
END:VEVENT
END:VCALENDAR
