BEGIN:VCALENDAR
PRODID:Nexudus
VERSION:2.0
BEGIN:VTIMEZONE
TZID:Asia/Singapore
X-LIC-LOCATION:Asia/Singapore
BEGIN:STANDARD
DTSTART:19820101T010000
RRULE:FREQ=YEARLY;BYDAY=1FR;BYMONTH=1
TZNAME:+08
TZOFFSETFROM:+0900
TZOFFSETTO:+0800
END:STANDARD
END:VTIMEZONE
BEGIN:VEVENT
DESCRIPTION:\nEvent link: https://Hubud.spaces.nexudus.com/en/events/view/7
 49538821/entrepreneurial-think-thank--let-s-bucket---because-stories-inspi
 re\n
DTEND;TZID=Asia/Singapore:20181114T133000
DTSTAMP:20260423T055135Z
DTSTART;TZID=Asia/Singapore:20181114T123000
LOCATION:Hubud
SEQUENCE:0
SUMMARY:Entrepreneurial Think Thank: Let's Bucket - because stories inspire
UID:658d511d-250f-49f0-9ac8-16903992744f
END:VEVENT
END:VCALENDAR
