BEGIN:VCALENDAR
PRODID:Nexudus
VERSION:2.0
BEGIN:VTIMEZONE
TZID:Asia/Singapore
X-LIC-LOCATION:Asia/Singapore
BEGIN:STANDARD
DTSTART:19820101T010000
RRULE:FREQ=YEARLY;BYDAY=1FR;BYMONTH=1
TZNAME:+08
TZOFFSETFROM:+0900
TZOFFSETTO:+0800
END:STANDARD
END:VTIMEZONE
BEGIN:VEVENT
DESCRIPTION:\nEvent link: https://Hubud.spaces.nexudus.com/en/events/view/7
 49720029/entrepreneurial-think-thank--amuze-web-design\n
DTEND;TZID=Asia/Singapore:20181107T133000
DTSTAMP:20260423T055802Z
DTSTART;TZID=Asia/Singapore:20181107T123000
LOCATION:Hubud
SEQUENCE:0
SUMMARY:Entrepreneurial Think Thank: Amuze Web Design
UID:27ff78ce-ca17-4f86-9f5b-3ab20fb5f21e
END:VEVENT
END:VCALENDAR
