BEGIN:VCALENDAR
PRODID:Nexudus
VERSION:2.0
BEGIN:VTIMEZONE
TZID:Asia/Singapore
X-LIC-LOCATION:Asia/Singapore
BEGIN:STANDARD
DTSTART:19820101T010000
RRULE:FREQ=YEARLY;BYDAY=1FR;BYMONTH=1
TZNAME:+08
TZOFFSETFROM:+0900
TZOFFSETTO:+0800
END:STANDARD
END:VTIMEZONE
BEGIN:VEVENT
DESCRIPTION:\nEvent link: https://Hubud.spaces.nexudus.com/en/events/view/7
 63849198/bali-bungkus--become-a-storyteller-of-engaging-content\n
DTEND;TZID=Asia/Singapore:20181122T133000
DTSTAMP:20260422T221958Z
DTSTART;TZID=Asia/Singapore:20181122T123000
LOCATION:Hubud
SEQUENCE:0
SUMMARY:Bali Bungkus: Become a Storyteller of Engaging Content
UID:9f11c853-646e-4c85-85ab-646c24e53cae
END:VEVENT
END:VCALENDAR
