BEGIN:VCALENDAR
PRODID:Nexudus
VERSION:2.0
BEGIN:VTIMEZONE
TZID:Asia/Singapore
X-LIC-LOCATION:Asia/Singapore
BEGIN:STANDARD
DTSTART:19820101T010000
RRULE:FREQ=YEARLY;BYDAY=1FR;BYMONTH=1
TZNAME:+08
TZOFFSETFROM:+0900
TZOFFSETTO:+0800
END:STANDARD
END:VTIMEZONE
BEGIN:VEVENT
DESCRIPTION:\nEvent link: https://Hubud.spaces.nexudus.com/en/events/view/7
 81013240/entrepreneurial-think-thank--boldly-in-the-middle\n
DTEND;TZID=Asia/Singapore:20181205T133000
DTSTAMP:20260422T221934Z
DTSTART;TZID=Asia/Singapore:20181205T123000
LOCATION:Hubud
SEQUENCE:0
SUMMARY:Entrepreneurial Think Thank: Boldly In The Middle
UID:2f348d21-7fdf-475b-8167-43d92bc7a351
END:VEVENT
END:VCALENDAR
