BEGIN:VCALENDAR
PRODID:Nexudus
VERSION:2.0
BEGIN:VTIMEZONE
TZID:Asia/Singapore
X-LIC-LOCATION:Asia/Singapore
BEGIN:STANDARD
DTSTART:19820101T010000
RRULE:FREQ=YEARLY;BYDAY=1FR;BYMONTH=1
TZNAME:+08
TZOFFSETFROM:+0900
TZOFFSETTO:+0800
END:STANDARD
END:VTIMEZONE
BEGIN:VEVENT
DESCRIPTION:\nEvent link: https://Hubud.spaces.nexudus.com/en/events/view/7
 86908123/hubud-members-lunch--kebun-bistro\n
DTEND;TZID=Asia/Singapore:20181214T143000
DTSTAMP:20260423T072619Z
DTSTART;TZID=Asia/Singapore:20181214T123000
LOCATION:Hubud
SEQUENCE:0
SUMMARY:Hubud Members Lunch: Kebun Bistro 
UID:0c8be2ca-5087-4b53-9533-8336323bb8d5
END:VEVENT
END:VCALENDAR
