BEGIN:VCALENDAR
PRODID:Nexudus
VERSION:2.0
BEGIN:VTIMEZONE
TZID:Asia/Singapore
X-LIC-LOCATION:Asia/Singapore
BEGIN:STANDARD
DTSTART:19820101T010000
RRULE:FREQ=YEARLY;BYDAY=1FR;BYMONTH=1
TZNAME:+08
TZOFFSETFROM:+0900
TZOFFSETTO:+0800
END:STANDARD
END:VTIMEZONE
BEGIN:VEVENT
DESCRIPTION:\nEvent link: https://Hubud.spaces.nexudus.com/en/events/view/8
 08118527/bali-bungkus--commercial-lettering-and-calligraphy\n
DTEND;TZID=Asia/Singapore:20190110T133000
DTSTAMP:20260422T221957Z
DTSTART;TZID=Asia/Singapore:20190110T123000
LOCATION:Hubud
SEQUENCE:0
SUMMARY:Bali Bungkus: Commercial Lettering and Calligraphy
UID:79b3d7b5-abd9-4112-9379-7ae5bf2cbc6b
END:VEVENT
END:VCALENDAR
