BEGIN:VCALENDAR
PRODID:Nexudus
VERSION:2.0
BEGIN:VTIMEZONE
TZID:Asia/Singapore
X-LIC-LOCATION:Asia/Singapore
BEGIN:STANDARD
DTSTART:19820101T010000
RRULE:FREQ=YEARLY;BYDAY=1FR;BYMONTH=1
TZNAME:+08
TZOFFSETFROM:+0900
TZOFFSETTO:+0800
END:STANDARD
END:VTIMEZONE
BEGIN:VEVENT
DESCRIPTION:This event is for members only. Find out more about membership 
 (including Events Only membership) at https://www.hubud.org/join/\n\nAre y
 ou ready to create a greater future in the year ahead? This is a New Year 
 Goal-Setting process with a twist. What happens when we go beyond that old
  concept of ‘if it’s to be\, it’s up to me’ and are willing to exp
 licitly invite the Universe / Life / (insert your Epic Energy of choice) t
 o the planning party? \nJoin Jane for a co-creation workshop as we reflect
  on what really went on for you in 2018 and set values-based targets for t
 he year ahead. Plus\, we delve into the sticky question of ‘What will gi
 ve me the best chance of success?’ Hint: SMART indicators optional…\n\
 nWhat you’ll learn:\n\n- What did I accomplish?\n- What did Life gift me
 ?\n- What am I grateful for?\n- What were my biggest disappointments last 
 year? \n- What did I learn? \n- What are my personal values? \n- How will 
 I embody these values in the year ahead?\n- What are my Targets for the ye
 ar ahead?\n- What Miracles am I asking for…?\n- What will give me the be
 st chance of success?\n\nAbout the speaker\nAfter two decades leading and 
 working with non-profits all over the world Jane started a Social Change C
 onsultancy\, helping CEOs and Founders of non-profits and social enterpris
 es develop their Strategic Leadership capacity and grow their organization
 s. She’s in Ubud developing new projects and an online presence so she
 ’s not tied to London through the dark Winters …    \nEvent link: http
 s://Hubud.spaces.nexudus.com/en/events/view/808271518/skill-share--creatin
 g-2019\n
DTEND;TZID=Asia/Singapore:20190109T133000
DTSTAMP:20260422T221328Z
DTSTART;TZID=Asia/Singapore:20190109T123000
LOCATION:Hubud
SEQUENCE:0
SUMMARY:Skill Share: Creating 2019
UID:5a3a9c1e-117d-422f-8930-f16b33c7bc9e
END:VEVENT
END:VCALENDAR
