BEGIN:VCALENDAR
PRODID:Nexudus
VERSION:2.0
BEGIN:VTIMEZONE
TZID:Asia/Singapore
X-LIC-LOCATION:Asia/Singapore
BEGIN:STANDARD
DTSTART:19820101T010000
RRULE:FREQ=YEARLY;BYDAY=1FR;BYMONTH=1
TZNAME:+08
TZOFFSETFROM:+0900
TZOFFSETTO:+0800
END:STANDARD
END:VTIMEZONE
BEGIN:VEVENT
DESCRIPTION:\nEvent link: https://Hubud.spaces.nexudus.com/en/events/view/8
 28227414/bali-bungkus--successful-fundraising-for-startups-and-expansion\n
DTEND;TZID=Asia/Singapore:20190124T133000
DTSTAMP:20260423T043332Z
DTSTART;TZID=Asia/Singapore:20190129T123000
LOCATION:Hubud
SEQUENCE:0
SUMMARY:Bali Bungkus: Successful Fundraising for Startups and Expansion
UID:3aa456fe-d758-4426-b53a-d1aca2474150
END:VEVENT
END:VCALENDAR
