BEGIN:VCALENDAR
PRODID:Nexudus
VERSION:2.0
BEGIN:VTIMEZONE
TZID:Asia/Singapore
X-LIC-LOCATION:Asia/Singapore
BEGIN:STANDARD
DTSTART:19820101T010000
RRULE:FREQ=YEARLY;BYDAY=1FR;BYMONTH=1
TZNAME:+08
TZOFFSETFROM:+0900
TZOFFSETTO:+0800
END:STANDARD
END:VTIMEZONE
BEGIN:VEVENT
DESCRIPTION:\nEvent link: https://Hubud.spaces.nexudus.com/en/events/view/8
 63534674/skill-share--make-2019-the-year-to-create-the-work-you-love\n
DTEND;TZID=Asia/Singapore:20190207T150000
DTSTAMP:20260423T012442Z
DTSTART;TZID=Asia/Singapore:20190207T140000
LOCATION:Hubud
SEQUENCE:0
SUMMARY:Skill Share: Make 2019 the Year to Create the Work you Love
UID:3f2a6239-5fc8-4f86-89db-69431a451259
END:VEVENT
END:VCALENDAR
