BEGIN:VCALENDAR
PRODID:Nexudus
VERSION:2.0
BEGIN:VTIMEZONE
TZID:Asia/Singapore
X-LIC-LOCATION:Asia/Singapore
BEGIN:STANDARD
DTSTART:19820101T010000
RRULE:FREQ=YEARLY;BYDAY=1FR;BYMONTH=1
TZNAME:+08
TZOFFSETFROM:+0900
TZOFFSETTO:+0800
END:STANDARD
END:VTIMEZONE
BEGIN:VEVENT
DESCRIPTION:\nEvent link: https://Hubud.spaces.nexudus.com/en/events/view/8
 63534769/hubud-social-hour--what-s-up-pizza\n
DTEND;TZID=Asia/Singapore:20190208T140000
DTSTAMP:20260424T032850Z
DTSTART;TZID=Asia/Singapore:20190208T120000
LOCATION:What's Up Pizza
SEQUENCE:0
SUMMARY:Hubud Social Hour: What's Up Pizza
UID:8a08e72e-a579-4491-a543-219dd6347b57
END:VEVENT
END:VCALENDAR
