BEGIN:VCALENDAR
PRODID:Nexudus
VERSION:2.0
BEGIN:VTIMEZONE
TZID:Asia/Singapore
X-LIC-LOCATION:Asia/Singapore
BEGIN:STANDARD
DTSTART:19820101T010000
RRULE:FREQ=YEARLY;BYDAY=1FR;BYMONTH=1
TZNAME:+08
TZOFFSETFROM:+0900
TZOFFSETTO:+0800
END:STANDARD
END:VTIMEZONE
BEGIN:VEVENT
DESCRIPTION:\nEvent link: https://Hubud.spaces.nexudus.com/en/events/view/9
 34335409/social-hour--dinner-at-hubud\n
DTEND;TZID=Asia/Singapore:20190311T200000
DTSTAMP:20260423T030454Z
DTSTART;TZID=Asia/Singapore:20190311T190000
LOCATION:Hubud
SEQUENCE:0
SUMMARY:Social Hour: Dinner at Hubud
UID:bd418edc-60f7-4941-9647-2c68ce012737
END:VEVENT
END:VCALENDAR
