BEGIN:VCALENDAR
PRODID:Nexudus
VERSION:2.0
BEGIN:VTIMEZONE
TZID:Asia/Singapore
X-LIC-LOCATION:Asia/Singapore
BEGIN:STANDARD
DTSTART:19820101T010000
RRULE:FREQ=YEARLY;BYDAY=1FR;BYMONTH=1
TZNAME:+08
TZOFFSETFROM:+0900
TZOFFSETTO:+0800
END:STANDARD
END:VTIMEZONE
BEGIN:VEVENT
DESCRIPTION:\nEvent link: https://Hubud.spaces.nexudus.com/en/events/view/9
 36979044/social-hour--members-lunch\n
DTEND;TZID=Asia/Singapore:20190308T133000
DTSTAMP:20260423T030556Z
DTSTART;TZID=Asia/Singapore:20190308T123000
LOCATION:Hubud
SEQUENCE:0
SUMMARY:Social Hour: Members Lunch
UID:4c8ebcb8-edec-47b4-bb88-d3606696f1ee
END:VEVENT
END:VCALENDAR
