BEGIN:VCALENDAR
PRODID:Nexudus
VERSION:2.0
BEGIN:VTIMEZONE
TZID:Asia/Singapore
X-LIC-LOCATION:Asia/Singapore
BEGIN:STANDARD
DTSTART:19820101T010000
RRULE:FREQ=YEARLY;BYDAY=1FR;BYMONTH=1
TZNAME:+08
TZOFFSETFROM:+0900
TZOFFSETTO:+0800
END:STANDARD
END:VTIMEZONE
BEGIN:VEVENT
DESCRIPTION:\nEvent link: https://Hubud.spaces.nexudus.com/en/events/view/9
 43686753/skill-share--the-power-of-variety\n
DTEND;TZID=Asia/Singapore:20190312T133000
DTSTAMP:20260423T030557Z
DTSTART;TZID=Asia/Singapore:20190312T123000
LOCATION:Hubud
SEQUENCE:0
SUMMARY:Skill Share: The Power of Variety
UID:d19a1060-2ed1-48a6-8def-8e1d2dc40f8c
END:VEVENT
END:VCALENDAR
