BEGIN:VCALENDAR
PRODID:Nexudus
VERSION:2.0
BEGIN:VTIMEZONE
TZID:Asia/Singapore
X-LIC-LOCATION:Asia/Singapore
BEGIN:STANDARD
DTSTART:19820101T010000
RRULE:FREQ=YEARLY;BYDAY=1FR;BYMONTH=1
TZNAME:+08
TZOFFSETFROM:+0900
TZOFFSETTO:+0800
END:STANDARD
END:VTIMEZONE
BEGIN:VEVENT
DESCRIPTION:\nEvent link: https://Hubud.spaces.nexudus.com/en/events/view/9
 63022063/bali-bungkus---makeshithappen---world-changing-ideas\n
DTEND;TZID=Asia/Singapore:20190404T183000
DTSTAMP:20260422T221935Z
DTSTART;TZID=Asia/Singapore:20190404T173000
LOCATION:Hubud
SEQUENCE:0
SUMMARY:Bali Bungkus: #MakeShitHappen - World Changing Ideas
UID:6fbd11c8-ec1a-43c4-80f9-2e0eae04335c
END:VEVENT
END:VCALENDAR
