BEGIN:VCALENDAR
PRODID:Nexudus
VERSION:2.0
BEGIN:VTIMEZONE
TZID:Asia/Singapore
X-LIC-LOCATION:Asia/Singapore
BEGIN:STANDARD
DTSTART:19820101T010000
RRULE:FREQ=YEARLY;BYDAY=1FR;BYMONTH=1
TZNAME:+08
TZOFFSETFROM:+0900
TZOFFSETTO:+0800
END:STANDARD
END:VTIMEZONE
BEGIN:VEVENT
DESCRIPTION:\nEvent link: https://Hubud.spaces.nexudus.com/en/events/view/1
 021360395/skill-share--5-golden-rules-of-remote-work\n
DTEND;TZID=Asia/Singapore:20190612T183000
DTSTAMP:20260423T030812Z
DTSTART;TZID=Asia/Singapore:20190612T173000
LOCATION:Hubud
SEQUENCE:0
SUMMARY:Skill Share: 5 Golden Rules of Remote Work
UID:4f2c039c-f8f8-4951-90e1-0f70ace9a32f
END:VEVENT
END:VCALENDAR
