BEGIN:VCALENDAR
PRODID:Nexudus
VERSION:2.0
BEGIN:VTIMEZONE
TZID:Asia/Singapore
X-LIC-LOCATION:Asia/Singapore
BEGIN:STANDARD
DTSTART:19820101T010000
RRULE:FREQ=YEARLY;BYDAY=1FR;BYMONTH=1
TZNAME:+08
TZOFFSETFROM:+0900
TZOFFSETTO:+0800
END:STANDARD
END:VTIMEZONE
BEGIN:VEVENT
DESCRIPTION:\nEvent link: https://Hubud.spaces.nexudus.com/en/events/view/1
 039412376/skill-share--gradual-growth-perspectives\n
DTEND;TZID=Asia/Singapore:20190604T183000
DTSTAMP:20260422T222224Z
DTSTART;TZID=Asia/Singapore:20190604T173000
LOCATION:Hubud
SEQUENCE:0
SUMMARY:Skill Share: Gradual Growth Perspectives
UID:f0cfbe49-4e93-4730-9c8a-0e79d3816fb4
END:VEVENT
END:VCALENDAR
