BEGIN:VCALENDAR
PRODID:Nexudus
VERSION:2.0
BEGIN:VTIMEZONE
TZID:Asia/Singapore
X-LIC-LOCATION:Asia/Singapore
BEGIN:STANDARD
DTSTART:19820101T010000
RRULE:FREQ=YEARLY;BYDAY=1FR;BYMONTH=1
TZNAME:+08
TZOFFSETFROM:+0900
TZOFFSETTO:+0800
END:STANDARD
END:VTIMEZONE
BEGIN:VEVENT
DESCRIPTION:\nEvent link: https://Hubud.spaces.nexudus.com/en/events/view/1
 067990927/skill-share--normalizing-mental-health\n
DTEND;TZID=Asia/Singapore:20190624T183000
DTSTAMP:20260423T010913Z
DTSTART;TZID=Asia/Singapore:20190624T173000
LOCATION:Hubud
SEQUENCE:0
SUMMARY:Skill Share: Normalizing Mental Health
UID:9aa13cb2-68e0-47d7-a3f4-7860d5d73030
END:VEVENT
END:VCALENDAR
