BEGIN:VCALENDAR
PRODID:Nexudus
VERSION:2.0
BEGIN:VTIMEZONE
TZID:Asia/Singapore
X-LIC-LOCATION:Asia/Singapore
BEGIN:STANDARD
DTSTART:19820101T010000
RRULE:FREQ=YEARLY;BYDAY=1FR;BYMONTH=1
TZNAME:+08
TZOFFSETFROM:+0900
TZOFFSETTO:+0800
END:STANDARD
END:VTIMEZONE
BEGIN:VEVENT
DESCRIPTION:\nEvent link: https://Hubud.spaces.nexudus.com/en/events/view/1
 073854850/skill-share--gamification-and-an-introduction-to-systems-thinkin
 g\n
DTEND;TZID=Asia/Singapore:20190702T183000
DTSTAMP:20260422T222114Z
DTSTART;TZID=Asia/Singapore:20190702T173000
LOCATION:Hubud
SEQUENCE:0
SUMMARY:Skill Share: Gamification and an Introduction to Systems Thinking
UID:221e9860-f160-4770-a5bc-2d203bc0acfb
END:VEVENT
END:VCALENDAR
