BEGIN:VCALENDAR
PRODID:Nexudus
VERSION:2.0
BEGIN:VTIMEZONE
TZID:Asia/Singapore
X-LIC-LOCATION:Asia/Singapore
BEGIN:STANDARD
DTSTART:19820101T010000
RRULE:FREQ=YEARLY;BYDAY=1FR;BYMONTH=1
TZNAME:+08
TZOFFSETFROM:+0900
TZOFFSETTO:+0800
END:STANDARD
END:VTIMEZONE
BEGIN:VEVENT
DESCRIPTION:\nEvent link: https://Hubud.spaces.nexudus.com/en/events/view/1
 083128058/skill-share--optimize-your-linkedin\n
DTEND;TZID=Asia/Singapore:20190708T183000
DTSTAMP:20260422T221506Z
DTSTART;TZID=Asia/Singapore:20190708T173000
LOCATION:Hubud
SEQUENCE:0
SUMMARY:Skill Share: Optimize Your LinkedIn
UID:fb2dfc44-392b-4211-84d6-87986e62b313
END:VEVENT
END:VCALENDAR
