BEGIN:VCALENDAR
PRODID:Nexudus
VERSION:2.0
BEGIN:VTIMEZONE
TZID:Asia/Singapore
X-LIC-LOCATION:Asia/Singapore
BEGIN:STANDARD
DTSTART:19820101T010000
RRULE:FREQ=YEARLY;BYDAY=1FR;BYMONTH=1
TZNAME:+08
TZOFFSETFROM:+0900
TZOFFSETTO:+0800
END:STANDARD
END:VTIMEZONE
BEGIN:VEVENT
DESCRIPTION:\nEvent link: https://Hubud.spaces.nexudus.com/en/events/view/1
 120750635/skill-share--influencer-marketing---inside-the-agency\n
DTEND;TZID=Asia/Singapore:20190807T183000
DTSTAMP:20260422T222055Z
DTSTART;TZID=Asia/Singapore:20190807T173000
LOCATION:Hubud
SEQUENCE:0
SUMMARY:Skill Share: Influencer Marketing - Inside the Agency
UID:63cd291b-c56b-4966-a75b-5bb28de5f928
END:VEVENT
END:VCALENDAR
