BEGIN:VCALENDAR
PRODID:Nexudus
VERSION:2.0
BEGIN:VTIMEZONE
TZID:Asia/Singapore
X-LIC-LOCATION:Asia/Singapore
BEGIN:STANDARD
DTSTART:19820101T010000
RRULE:FREQ=YEARLY;BYDAY=1FR;BYMONTH=1
TZNAME:+08
TZOFFSETFROM:+0900
TZOFFSETTO:+0800
END:STANDARD
END:VTIMEZONE
BEGIN:VEVENT
DESCRIPTION:\nEvent link: https://Hubud.spaces.nexudus.com/en/events/view/1
 133148077/client-management-101\n
DTEND;TZID=Asia/Singapore:20190903T183000
DTSTAMP:20260422T221533Z
DTSTART;TZID=Asia/Singapore:20190903T173000
LOCATION:Hubud
SEQUENCE:0
SUMMARY:Client Management 101
UID:28d56ea9-9c9e-4f5c-a079-52a4726ef488
END:VEVENT
END:VCALENDAR
