BEGIN:VCALENDAR
PRODID:Nexudus
VERSION:2.0
BEGIN:VTIMEZONE
TZID:Asia/Singapore
X-LIC-LOCATION:Asia/Singapore
BEGIN:STANDARD
DTSTART:19820101T010000
RRULE:FREQ=YEARLY;BYDAY=1FR;BYMONTH=1
TZNAME:+08
TZOFFSETFROM:+0900
TZOFFSETTO:+0800
END:STANDARD
END:VTIMEZONE
BEGIN:VEVENT
DESCRIPTION:\nEvent link: https://Hubud.spaces.nexudus.com/en/events/view/1
 142278160/the-simplest-sales-funnel\n
DTEND;TZID=Asia/Singapore:20190911T183000
DTSTAMP:20260423T013725Z
DTSTART;TZID=Asia/Singapore:20190911T173000
LOCATION:Hubud
SEQUENCE:0
SUMMARY:The Simplest Sales Funnel
UID:bcd8356f-9696-4168-ad67-92924770c51d
END:VEVENT
END:VCALENDAR
