BEGIN:VCALENDAR
PRODID:Nexudus
VERSION:2.0
BEGIN:VTIMEZONE
TZID:Asia/Singapore
X-LIC-LOCATION:Asia/Singapore
BEGIN:STANDARD
DTSTART:19820101T010000
RRULE:FREQ=YEARLY;BYDAY=1FR;BYMONTH=1
TZNAME:+08
TZOFFSETFROM:+0900
TZOFFSETTO:+0800
END:STANDARD
END:VTIMEZONE
BEGIN:VEVENT
DESCRIPTION:\nEvent link: https://Hubud.spaces.nexudus.com/en/events/view/1
 144333195/forget-the-goals----to-do-lists-\n
DTEND;TZID=Asia/Singapore:20190912T183000
DTSTAMP:20260423T012741Z
DTSTART;TZID=Asia/Singapore:20190912T173000
LOCATION:Hubud
SEQUENCE:0
SUMMARY:Forget the Goals (& to-do lists)
UID:bb920ac5-67e7-4694-b1b9-de3459dac6ec
END:VEVENT
END:VCALENDAR
