BEGIN:VCALENDAR
PRODID:Nexudus
VERSION:2.0
BEGIN:VTIMEZONE
TZID:Asia/Singapore
X-LIC-LOCATION:Asia/Singapore
BEGIN:STANDARD
DTSTART:19820101T010000
RRULE:FREQ=YEARLY;BYDAY=1FR;BYMONTH=1
TZNAME:+08
TZOFFSETFROM:+0900
TZOFFSETTO:+0800
END:STANDARD
END:VTIMEZONE
BEGIN:VEVENT
DESCRIPTION:\nEvent link: https://Hubud.spaces.nexudus.com/en/events/view/1
 203032847/how-to-be--1-in-your-market\n
DTEND;TZID=Asia/Singapore:20191127T183000
DTSTAMP:20260422T222233Z
DTSTART;TZID=Asia/Singapore:20191127T173000
LOCATION:Hubud
SEQUENCE:0
SUMMARY:How To Be #1 In Your Market
UID:d90b27e9-768e-4cfc-a8be-4be1d1056213
END:VEVENT
END:VCALENDAR
