BEGIN:VCALENDAR
PRODID:Nexudus
VERSION:2.0
BEGIN:VTIMEZONE
TZID:Asia/Singapore
X-LIC-LOCATION:Asia/Singapore
BEGIN:STANDARD
DTSTART:19820101T010000
RRULE:FREQ=YEARLY;BYDAY=1FR;BYMONTH=1
TZNAME:+08
TZOFFSETFROM:+0900
TZOFFSETTO:+0800
END:STANDARD
END:VTIMEZONE
BEGIN:VEVENT
DESCRIPTION:\nEvent link: https://Hubud.spaces.nexudus.com/en/events/view/1
 212453499/mac-doctor-in-house\n
DTEND;TZID=Asia/Singapore:20191211T120000
DTSTAMP:20260422T222119Z
DTSTART;TZID=Asia/Singapore:20191211T100000
LOCATION:Hubud
SEQUENCE:0
SUMMARY:Mac Doctor in House
UID:cc263b06-8292-4adf-bf9d-95f39e6b4ca7
END:VEVENT
END:VCALENDAR
