BEGIN:VCALENDAR
PRODID:Nexudus
VERSION:2.0
BEGIN:VTIMEZONE
TZID:Asia/Singapore
X-LIC-LOCATION:Asia/Singapore
BEGIN:STANDARD
DTSTART:19820101T010000
RRULE:FREQ=YEARLY;BYDAY=1FR;BYMONTH=1
TZNAME:+08
TZOFFSETFROM:+0900
TZOFFSETTO:+0800
END:STANDARD
END:VTIMEZONE
BEGIN:VEVENT
DESCRIPTION:New member at Hubud?\n\nJoin us and get to know How-to-Hubud!\n
 \nFrom tracking your hours\, using our amazing media server\, and connecti
 ng with other co-working spaces we have reciprocal agreements with\, you w
 ill be a full fledged Hubudian by the end of the session.\nEvent link: htt
 ps://Hubud.spaces.nexudus.com/en/events/view/1212453500/hubud-new-members-
 orientation\n
DTEND;TZID=Asia/Singapore:20191217T113000
DTSTAMP:20260422T222118Z
DTSTART;TZID=Asia/Singapore:20191217T103000
LOCATION:Hubud
SEQUENCE:0
SUMMARY:Hubud New Members Orientation
UID:019fadd1-ae10-486a-b69f-8564fe50d948
END:VEVENT
END:VCALENDAR
