BEGIN:VCALENDAR
PRODID:Nexudus
VERSION:2.0
BEGIN:VTIMEZONE
TZID:Asia/Singapore
X-LIC-LOCATION:Asia/Singapore
BEGIN:STANDARD
DTSTART:19820101T010000
RRULE:FREQ=YEARLY;BYDAY=1FR;BYMONTH=1
TZNAME:+08
TZOFFSETFROM:+0900
TZOFFSETTO:+0800
END:STANDARD
END:VTIMEZONE
BEGIN:VEVENT
DESCRIPTION:\nEvent link: https://Hubud.spaces.nexudus.com/en/events/view/1
 222392798/twitter-ad-discovery\n
DTEND;TZID=Asia/Singapore:20200108T183000
DTSTAMP:20260422T221659Z
DTSTART;TZID=Asia/Singapore:20200108T173000
LOCATION:Hubud
SEQUENCE:0
SUMMARY:Twitter Ad Discovery
UID:d2e5960a-f01a-4e6a-a1b5-ba61d779f166
END:VEVENT
END:VCALENDAR
