BEGIN:VCALENDAR
PRODID:Nexudus
VERSION:2.0
BEGIN:VTIMEZONE
TZID:Asia/Singapore
X-LIC-LOCATION:Asia/Singapore
BEGIN:STANDARD
DTSTART:19820101T010000
RRULE:FREQ=YEARLY;BYDAY=1FR;BYMONTH=1
TZNAME:+08
TZOFFSETFROM:+0900
TZOFFSETTO:+0800
END:STANDARD
END:VTIMEZONE
BEGIN:VEVENT
DESCRIPTION:\nEvent link: https://Hubud.spaces.nexudus.com/en/events/view/1
 247867622/ubud-toastmasters\n
DTEND;TZID=Asia/Singapore:20200205T211500
DTSTAMP:20260422T222119Z
DTSTART;TZID=Asia/Singapore:20200205T184500
LOCATION:Hubud
SEQUENCE:0
SUMMARY:Ubud Toastmasters
UID:890e682c-baae-44d8-8a28-2a4e65c4d0f5
END:VEVENT
END:VCALENDAR
