BEGIN:VCALENDAR
PRODID:Nexudus
VERSION:2.0
BEGIN:VTIMEZONE
TZID:Asia/Singapore
X-LIC-LOCATION:Asia/Singapore
BEGIN:STANDARD
DTSTART:19820101T010000
RRULE:FREQ=YEARLY;BYDAY=1FR;BYMONTH=1
TZNAME:+08
TZOFFSETFROM:+0900
TZOFFSETTO:+0800
END:STANDARD
END:VTIMEZONE
BEGIN:VEVENT
DESCRIPTION:Neuroscience the Mind/Brain Body and Heart – Expand your Brai
 n\, Expand Your Life\n\nEvent link: https://Hubud.spaces.nexudus.com/en/ev
 ents/view/230951757/bali-bungkus\n
DTEND;TZID=Asia/Singapore:20160901T130000
DTSTAMP:20260425T214443Z
DTSTART;TZID=Asia/Singapore:20160901T120000
LOCATION:Hubud
SEQUENCE:0
SUMMARY:Bali Bungkus 
UID:d19a4392-8fce-4093-ba9d-bc8b408df8c3
END:VEVENT
END:VCALENDAR
