BEGIN:VCALENDAR
PRODID:Nexudus
VERSION:2.0
BEGIN:VTIMEZONE
TZID:Asia/Singapore
X-LIC-LOCATION:Asia/Singapore
BEGIN:STANDARD
DTSTART:19820101T010000
RRULE:FREQ=YEARLY;BYDAY=1FR;BYMONTH=1
TZNAME:+08
TZOFFSETFROM:+0900
TZOFFSETTO:+0800
END:STANDARD
END:VTIMEZONE
BEGIN:VEVENT
DESCRIPTION:\nEvent link: https://Hubud.spaces.nexudus.com/en/events/view/6
 07592308/bali-bungkus--how-to-accelerate-your-rankings--organic-traffic-an
 d-seo-success-with-data-driven-seo-content-creation-\n
DTEND;TZID=Asia/Singapore:20180524T133000
DTSTAMP:20260423T030941Z
DTSTART;TZID=Asia/Singapore:20180524T123000
LOCATION:Hubud
SEQUENCE:0
SUMMARY:Bali Bungkus: How to accelerate your rankings\, organic traffic and
  SEO success with data-driven SEO content creation.
UID:05aec27a-2a8b-429f-ba3f-8d0c83c04ba0
END:VEVENT
END:VCALENDAR
