BEGIN:VCALENDAR
PRODID:Nexudus
VERSION:2.0
BEGIN:VTIMEZONE
TZID:Asia/Singapore
X-LIC-LOCATION:Asia/Singapore
BEGIN:STANDARD
DTSTART:19820101T010000
RRULE:FREQ=YEARLY;BYDAY=1FR;BYMONTH=1
TZNAME:+08
TZOFFSETFROM:+0900
TZOFFSETTO:+0800
END:STANDARD
END:VTIMEZONE
BEGIN:VEVENT
DESCRIPTION:\nEvent link: https://Hubud.spaces.nexudus.com/en/events/view/6
 27844224/bali-bungkus--how-to-co-ordinate-your-branding-campaign\n
DTEND;TZID=Asia/Singapore:20180612T160000
DTSTAMP:20260425T200201Z
DTSTART;TZID=Asia/Singapore:20180612T150000
LOCATION:Hubud
SEQUENCE:0
SUMMARY:Bali Bungkus: How to Co-ordinate Your Branding Campaign
UID:19a05642-383b-4914-91d3-73b9a66dfaae
END:VEVENT
END:VCALENDAR
