BEGIN:VCALENDAR
PRODID:Nexudus
VERSION:2.0
BEGIN:VTIMEZONE
TZID:Asia/Singapore
X-LIC-LOCATION:Asia/Singapore
BEGIN:STANDARD
DTSTART:19820101T010000
RRULE:FREQ=YEARLY;BYDAY=1FR;BYMONTH=1
TZNAME:+08
TZOFFSETFROM:+0900
TZOFFSETTO:+0800
END:STANDARD
END:VTIMEZONE
BEGIN:VEVENT
DESCRIPTION:This event is open to the public!\n\n★ SAVE THE DATE: MONDAY\
 , 27 AUGUST 2018\n★★ OPEN TO PUBLIC\n★★★ FREE SCREENING AT HUBUD
 \n\nThere will be a buffet dinner for only 50.000 rupiahs from 6 pm! Enjoy
  the movie without feeling in a rush to grab your food afterwards\, it's a
 lready there! \n\nA sensitive and soulful man earns a living by writing pe
 rsonal letters for other people. Left heartbroken after his marriage ends\
 , Theodore (Joaquin Phoenix) becomes fascinated with a new operating syste
 m which reportedly develops into an intuitive and unique entity in its own
  right. He starts the program and meets "Samantha" (Scarlett Johansson)\, 
 whose bright voice reveals a sensitive\, playful personality. Though "frie
 nds" initially\, the relationship soon deepens into love.\n\nNot only we'l
 l watch the movie\, but there will be an open discussion after the screeni
 ng.\nEvent link: https://Hubud.spaces.nexudus.com/en/events/view/639481901
 /hubud-movie-night--her\n
DTEND;TZID=Asia/Singapore:20180827T213000
DTSTAMP:20260423T092618Z
DTSTART;TZID=Asia/Singapore:20180827T183000
LOCATION:Hubud
SEQUENCE:0
SUMMARY:Hubud Movie Night: Her
UID:42336221-5644-47db-b055-ca508ad1db52
END:VEVENT
END:VCALENDAR
