BEGIN:VCALENDAR
PRODID:Nexudus
VERSION:2.0
BEGIN:VTIMEZONE
TZID:Asia/Singapore
X-LIC-LOCATION:Asia/Singapore
BEGIN:STANDARD
DTSTART:19820101T010000
RRULE:FREQ=YEARLY;BYDAY=1FR;BYMONTH=1
TZNAME:+08
TZOFFSETFROM:+0900
TZOFFSETTO:+0800
END:STANDARD
END:VTIMEZONE
BEGIN:VEVENT
DESCRIPTION:\nEvent link: https://Hubud.spaces.nexudus.com/en/events/view/6
 48686049/hubud-social-hour-at-what-s-up-pizzeria\n
DTEND;TZID=Asia/Singapore:20180713T220000
DTSTAMP:20260423T144320Z
DTSTART;TZID=Asia/Singapore:20180713T190000
LOCATION:What's Up Pizzeria
SEQUENCE:0
SUMMARY:Hubud Social Hour at What's Up Pizzeria
UID:61433e15-4f34-4eb2-b7fb-8fef78977d82
END:VEVENT
END:VCALENDAR
