BEGIN:VCALENDAR
PRODID:Nexudus
VERSION:2.0
BEGIN:VTIMEZONE
TZID:Asia/Singapore
X-LIC-LOCATION:Asia/Singapore
BEGIN:STANDARD
DTSTART:19820101T010000
RRULE:FREQ=YEARLY;BYDAY=1FR;BYMONTH=1
TZNAME:+08
TZOFFSETFROM:+0900
TZOFFSETTO:+0800
END:STANDARD
END:VTIMEZONE
BEGIN:VEVENT
DESCRIPTION:\nEvent link: https://Hubud.spaces.nexudus.com/en/events/view/6
 58048482/entrepreneurial-think-thank--sun-sang-eco-village\n
DTEND;TZID=Asia/Singapore:20180801T133000
DTSTAMP:20260422T235122Z
DTSTART;TZID=Asia/Singapore:20180801T123000
LOCATION:Hubud
SEQUENCE:0
SUMMARY:Entrepreneurial Think Thank: Sun Sang Eco Village
UID:5b42c173-2335-4111-b819-49e942041c75
END:VEVENT
END:VCALENDAR
