BEGIN:VCALENDAR
PRODID:Nexudus
VERSION:2.0
BEGIN:VTIMEZONE
TZID:Asia/Singapore
X-LIC-LOCATION:Asia/Singapore
BEGIN:STANDARD
DTSTART:19820101T010000
RRULE:FREQ=YEARLY;BYDAY=1FR;BYMONTH=1
TZNAME:+08
TZOFFSETFROM:+0900
TZOFFSETTO:+0800
END:STANDARD
END:VTIMEZONE
BEGIN:VEVENT
DESCRIPTION:This event is for members only. Find out more about membership 
 (including Events Only membership) at https://www.hubud.org/join/\n\nAn en
 ergetic & dynamic vinyasa flow yoga. All levels welcome! \n\nShake off the
  stress of your week with this dynamic style of yoga\, working with moveme
 nt and breath to a fun & uplifting soundtrack! We will start off slow\, bu
 t working up to a bit of a sweat and then finish with some juicy stretches
  for an all round body and mind work out. Leave feeling energised and reje
 uvenated. \n\nAbout the teacher:\nFor this Thursday we'll have a different
  teacher. This great Australian teacher has been teaching vinyasa flow for
  3 years in her home town of Manly Beach\, Australia. She has taught from 
 beginner to advanced levels in yoga studios\, gyms and - her favourite - o
 n the beach! Founder of Free Spirit Yoga wear\, she compliments running he
 r online business with yoga teaching\, and is super excited at the chance 
 to teach some fellow Hubudians!\nEvent link: https://Hubud.spaces.nexudus.
 com/en/events/view/674480028/free-spirit-funky-flow--yoga-at-hubud\n
DTEND;TZID=Asia/Singapore:20180816T170000
DTSTAMP:20260423T030517Z
DTSTART;TZID=Asia/Singapore:20180816T160000
LOCATION:Hubud
SEQUENCE:0
SUMMARY:Free Spirit Funky Flow: Yoga at Hubud
UID:96aa0984-c3c5-4462-801e-0a51e3dfeded
END:VEVENT
END:VCALENDAR
